BEGIN:VCALENDAR
PRODID:-//Det Danske Spejderkorps//NONSGML Gruppeweb//EN
VERSION:2.0
CALSCALE:GREGORIAN
X-PUBLISHED-TTL:PT1H
X-WR-CALNAME:Klan
METHOD:PUBLISH
BEGIN:VEVENT
UID:gruppeweb.dk:3105:event:199
DTSTAMP:20260424T153455Z
LAST-MODIFIED:20260213T061802Z
SUMMARY:Arbejdsdag i Spejdervænget
DESCRIPTION:*Søndag d. 27 april kl. 9-16 afholder Maribo Spejderne arbejds
 dag i  \nSpejdervænget\, hvor vi skal udføre nogle praktiske opgaver.*\n
 \nHer vil vi mødes kl. 9 til en kop kaffe og lidt til kaffen og her forde
 le de  \nopgaver\, som skal løses på dagen.\n\nDer vil være frokost mid
 t på dagen og forplejning hele dagen. ALLE er  \nvelkomne til at give en 
 hjælpende hånd!\n\n\nDe opgaver\, som vi MEGET gerne vil have jer foræl
 dre/pårørene til at  \nhjælpe os med er:\n\n/- Træbeskyttelse af bålh
 ytten/\n\n/- Træbeskyttelse af shelteren/\n\n/- Opsætte skilt på indgan
 gsportal/\n\n/- Opsætte skilt på Ulvehytten./\n\n/- Oprydning omkring hu
 sene/\n\n/- Fastilme sæder i kanoerne/\n\n/- Elektriker arbejde til lys v
 ed Ulvehytten./\n\n/\n/\n\n*Vi håber meget\, at mange forældre har mulig
 hed for at hjælpe os denne  \ndag.*\n\nVi forventer at slutte ca. kl. 16.
  Hvis du kun har mulighed for at være med  \ni en del af dagen\, så giv 
 besked til Besse. Besse.j@email.dk om dette.\n\nTilmelding senest den 16. 
 april via. medlemsservice\n\n\n*Med Spejderhilsen *\n\n*Bestyrelsen hos Ma
 ribo Spejderne *\n\n
URL:https://www.maribospejderne.dk/begivenhed/arbejdsdag-i-spejdervaenget
DTSTART:20250427T070000Z
DTEND:20250427T140000Z
LOCATION:Maribo Spejderne\, Spejdervænget 1\, 4930 Maribo
END:VEVENT
BEGIN:VEVENT
UID:gruppeweb.dk:3105:event:206
DTSTAMP:20260424T153455Z
LAST-MODIFIED:20260213T061748Z
SUMMARY:Sommerafslutning hos Maribo Spejderne
DESCRIPTION:*Sommerafslutning for Maribo spejderne.*\n\n*Onsdag den 18. jun
 i 2025 er sidste spejdermøde inden sommerferien og det  \nfejrer vi tradi
 tionen tro med en sommerafslutning med forældre og  \nsøskende.*\n\n*Ons
 dag den 18. juni 2025 kl. 17:00 – 19:00 i Spejdervænget.*\n\nHver famil
 ie medbringer og spiser egen aftensmad og medbringer tallerkener\,  \nglas
  og bestik til eget brug\, så giver vi drikkevarerne.\n\n*Vi glæder os t
 il en hyggelig aften.*\n\n*Af hensyn til indkøb og opdækning er tilmeldi
 ng nødvendig senest søndag  \nden 15/6 på*\n\nLink til Maribo Spejderne
 s hjemmeside [1]\n\n*Med Spejder hilsen lederne*\n\n\n[1] https://www.mari
 bospejderne.dk/\n
URL:https://www.maribospejderne.dk/begivenhed/sommerafslutning-hos-maribo-s
 pejderne
DTSTART:20250618T150000Z
DTEND:20250618T170000Z
LOCATION:Maribo Spejderne\, Spejdervænget 1\, 4930 Maribo
END:VEVENT
BEGIN:VEVENT
UID:gruppeweb.dk:3105:event:207
DTSTAMP:20260424T153455Z
LAST-MODIFIED:20250718T085959Z
SUMMARY:Gruppebål 2025
DESCRIPTION:*Denne dag\nmødes alle spejdere til oprykning og gruppebål.*\
 n\n\n\n*Ceremonien\ni mosen er hemmelig\, her må kun spejderne deltage.*\
 n\n\n\n*Men vi\nsynes du skal tage dine forældre og evt. søskende med ti
 l resten af  \nprogrammet\ni Spejdervænget.*\n\n\n\n*Dagens\nprogram:*\n\
 n\n\n*Kl. 17             Spejdere\, søskende og forældre\nm
 ødes i Spejdervænget.*\n\n\n\n*                    
   Spejderne går til\noprykning – for forældrene vil der være kaffe/t
 he.*\n\n\n\n*Kl. 18             Lidt at spise fra grill for\ns
 pejdere\, forældre og søskende.*\n\n\n\n*Kl. ca.\n18\,45  Gruppebål 
 – spejderne skal huske\nsangbogen!*\n\n\n\n*Kl. ca.\n19\,30  Afslutning
  – tak for i dag.*\n\n\n\n* *\n\n*Pris\nvoksne: kr. 50        
       Pris søskende:\nkr. 25          Spejdere er gratis.*\
 n\n\n\n*Prisen er incl. 1 øl/vand/vin.*\n\n\n\n* *\n\n*ALLE SKAL MEDBRIN
 GE TALLERKEN\, BESTIK OG KOP/KRUS!*\n\n\n\n
URL:https://www.maribospejderne.dk/begivenhed/gruppebaal-2025
DTSTART:20250822T150000Z
DTEND:20250822T173000Z
LOCATION:Maribo Spejderne\, Spejdervænget 1\, 4930 Maribo
END:VEVENT
BEGIN:VEVENT
UID:gruppeweb.dk:3105:event:208
DTSTAMP:20260424T153455Z
LAST-MODIFIED:20260213T061744Z
SUMMARY:Byløb i Maribo - Sct. Georgsgildet i Maribo
DESCRIPTION:\nSCt.\ngeorgs gildet\n\n  i maribo\n\n*Til alle spejdere hos
  Maribo Spejderne\,\nAztekerne og *\n\n\n\n*De grønne pigespejdere i Bran
 dstrup!*\n\n\n\n\nSct. Georgs Gildet i Maribo inviterer\ndig til et løb\,
  som foregår i Maribo\n\n\n\n\n\n                    
   *LØRDAG DEN 13. SEPTEMBER KL. 10  \n– 14.*\n\n\n\n\n\nVi mødes alle
  kl. 10 på Maribo Torv\nog slutter samme sted kl. 14.\n\n\n\n\n\nI skal h
 ave tøj på efter vejret og\nselvfølgelig være i jeres spejderuniform o
 g spejderlommen skal være i  \norden med\nblyant.\n\n\n\n\n\nEfter at I h
 ar været på løb slutter\nvi dagen med sandwich og drikkelse. HUSK din e
 gen kop/krus!!!\n\n\n\n\n\nDa vi skal vide\, hvor mange der\nkommer\, skal
  du give besked til din leder \n\n\n\n\n\n*SENEST 3. SEPTEMBER 2025*\n\n\
 n\n\n\nom du kommer til mødet eller er\nforhindret i at deltage.\n\n\n\n\
 n\nVi glæder os til at være sammen med\nalle jer friske spejdere og lede
 re!.\n\n\n\n\n \n\n\n\n\nMange spejderhilsner\n\n\n\nSct. Georgs Gildet i
  Maribo\n\n\n\n\n \n\n\n\n \n\n\n/ /\n\n\n\n/ /\n\n\n/ /\n\n
URL:https://www.maribospejderne.dk/begivenhed/byloeb-i-maribo-sct-georgsgil
 det-i-maribo
DTSTART:20250913T080000Z
DTEND:20250913T120000Z
LOCATION:Maribo Spejderne\, Spejdervænget 1\, 4930 Maribo
END:VEVENT
BEGIN:VEVENT
UID:gruppeweb.dk:3105:event:215
DTSTAMP:20260424T153455Z
LAST-MODIFIED:20251130T070806Z
SUMMARY:Juleudfordringer 2025
DESCRIPTION:Julen nærmer sig\, og det markerer vi selvfølgelig også hos 
 Maribo  \nSpejdere. Derfor har du muligheden for at tilmelde dig en eller 
 flere af  \nnedenstående mærker i december.\n\nNogle tænker måske\, at
  dette er nogle fjollede udfordringer\, men de giver  \nalle vores spejder
 e mulighed for at sætte sig et konkret mål\, arbejde efter  \ndet (også
  når de ikke lige gider) og opnå et konkret bevis (mærke) for  \ndet ef
 terfølgende. Det f.eks. er overraskende irriterende/varmt at have en  \nn
 issehue på konstant - det kræver sin spejdernisse. \n\nSiger du ja\, ti
 l at forsøge at opnå et eller flere mærker\, forventer vi at  \ndu give
 r det et seriøst forsøg\, men også at du er ærlig\, hvis det  \nallige
 vel ikke lykkedes for dig\, og du ofte glemte  \nsokkerne/huen/sweateren/t
 ørklædet.\n\nVi anbefaler én juleudfordring pr. spejder. Så er der en 
 ny udfordring at  \ntage hul på næste år igen.\n\n\n*NISSEHUE-MÆRKET (
 SPEJDERNISSE)*\n\nSpejdernisse-mærket opnår du ved at gå med nissehue i
  24 dage.\n\nHuen skal være på hovedet fra man står op til man går i s
 eng\, fra og med  \nmorgenen d. 1/12 til og med d. 24/12 aften ved sengeti
 d.\n\nVil man udfordres ekstra meget\, tager man en ny nisse hue på hver 
 eneste dag  \n(altså 24 forskellige dage) - gøres dette\, sys et kryds h
 enover mærket\,  \nsom symbol på at man har været ekstra sej.\n\nEr der
  tidspunkter\, hvor du har behov for en bestemt hovedbeklædning (f.eks.  
 \nen cykelhjelm til og fra skole\, eller en kokkehue på jobbet)\, så tag
 er du  \nselvfølgelig nissehuen af. Dog skal nissehuen på så snart det 
 er muligt.\n\n\n*JULESOKKE-MÆRKET*\n\nHvis du elsker fjollede sokker og j
 ul så er dette mærke lige noget for dig!\n\nRegler:\nDu skal gå med jul
 esokker fra d. 1/12 til d. 24/12. Det skal minimum være 4  \nforskellige 
 par og der skal være julede motiver på f.eks. rudolf\, julemand\,  \nsne
 mand\, stjerner\, juletræ m.m. Hvis du har arbejdsuniform eller lign. hvo
 r  \nsokkerne ikke må bæres\, eller er du f.eks. til svømning\, er du  
 \nselvfølgelig undtaget\, men sokkerne skal på så hurtigt som muligt ig
 en.\n\nHvis du går med 24 forskellige julesokker i december må du sy et 
 kryds over  \nmærket.\n\n\n*JULESWEATER-MÆRKET*\n\nHvis du elsker fjolle
 de julesweatre\, så er dette mærke lige noget for dig!\n\nRegler:\nDu sk
 al gå med julesweater fra d. 1/12 til d. 24/12. Der skal være julede  \n
 motiver på. Hvis du har arbejdsuniform eller lign. er du selvfølgelig  \
 nundtaget for at gå med julesweater så længe du bærer uniformen\, men 
  \nsweateren skal på så hurtigt som muligt igen. Der er intet minimumskr
 av om  \nhvor mange forskellige sweatre man skal bære\, men min. to sweat
 re kan være  \nen god ide\, så sweateren har mulighed for en lille vask 
 igennem de 24 dage.\n\nVil man udfordres ekstra meget\, kan man gå med 
 24 forskellige julesweatre  \ni december - gøres dette\, må man sy et kr
 yds henover mærket.\n\n\n.... JULELYS-MÆRKET\n\nFor at få Julelys-mærk
 et skal du gå med lys i dit spejdertørklæde alle  \ndage fra den 1. dec
 ember til den 24. december\, med julelys i.\n\nRegler:\nDu skal gå med sp
 ejdertørklæde hver dag fra 1/12-24/12. Køb en lille  \nlyskæde af\npas
 sende længde. Sy en lille lomme på bagsiden af trekanten på dit  \ntør
 klæde.\nHeri anbringer du batteriboksen. Sno lyskæden rundt om det bundn
 e  \ntørklæde. Vær\nberedt – så hav ekstra batterier med\, hvis det 
 er nødvendigt.\n\n\n\nNår du sover\, skal du ikke have tørklædet på. 
 Du tager det\nselvfølgelig også af\, når du går i bad\, er i svømmeha
 l og lignende. Hvis  \ndu\ndyrker sport eller har et arbejde som kræver\,
  at du ikke må gå med det\,  \nskal du\nheller ikke have det på. Men s
 å snart du står op\, er færdig med bad\, er  \nfærdig\ni svømmehallen
  etc. skal det straks på igen.\n\n\n\nHvis der er en sikkerhedsmæssig ri
 siko ved at have tørklædet\npå\, f.eks. under klatring skal du også hu
 ske at tage det af. \n\n\n\nHvis dine lærer finder det forstyrrende i sk
 olen\, at du\nsidder med lys i tørklædet\, slukker du naturligvis for ly
 set.\n\n\n\nNår du har gennemført udfordringen får du Julelys-mærket\n
 udleveret. Inden du syr mærket på uniformen\, anføres årstal med gul t
 råd  \ni de\nfremhævede digitaltal\, f.eks. 2025.\n\n\n\n\n\n \n\n\n\n-
 --------------------------------------------------------------------------
 ---\n\n
URL:https://www.maribospejderne.dk/begivenhed/juleudfordringer-2025
DTSTART:20251201T122200Z
DTEND:20251224T122200Z
LOCATION:Maribo Spejderne\, Spejdervænget 1\, 4930 Maribo
END:VEVENT
BEGIN:VEVENT
UID:gruppeweb.dk:3105:event:218
DTSTAMP:20260424T153455Z
LAST-MODIFIED:20260308T132722Z
SUMMARY:Gå Langt 2026
DESCRIPTION:======== GÅ LANGT - Vi gentager succesen! ====================
 ===============\n\n\n-------- Sidste år gik vi samlet ‘til München’ 
 (885 km) - Hvor langt\n         kan vi gå i år? ------------------------
 ---------------------------\n\n\nSpejdervænget summede af liv\, da masser
  af spejdere\, forældre og søskende  \ndeltog i GÅ LANGT sidste år. Ma
 nge spejdere fik testet\, at de kan mere end  \nde selv tror og MEGET mere
  end deres forældre tror. Det vil vi gerne  \ngentage.\n\n\nDerfor invite
 res du - og eventuelt dine forældre\, søskende\, bedsteforældre  \netc.
  -  til dette års GÅ LANGT fredag d. 3. april (jeps - det er nemlig 
  \nLANGfredag).\n\nAlle spejdere har mulighed for at gå sig til et 5\, 10
 \, 15\, 20\, 30\, 50 eller  \n75 km mærke.\n\n\nVi mødes ved Ulvehytten 
 i Spejdervænget\, og herfra gås en 5 km. rute.  \nDenne kan du gå en en
 kelt gang\, eller igen og igen - og igen og igen! \n\n\nAlle runder gået
  markeres på et stor oversigt ved hytten\, så alle kan  \nfølge med i h
 vor langt vi hver især - og samlet - har gået.\n\nDer er intet officielt
  starttidspunkt - I møder blot op når I har lyst. Du  \nkan enten have 
 aftalt et tidspunkt med andre spejdere\, eller møde op og  \nvente på at
  andre er klar til at gå sammen med dig. En opfordring herfra  \ner do
 g\, at du starter kl. 8 eller 9\, sådan at der er rigeligt tid at gå i. 
  \nSidste år så vi flere spejdere\, som troede de havde gået det de kun
 ne\, men  \nså pludseligt fik energi til at gå en runde mere.\n\n\nDer e
 r spejderledere ved hytten fra kl. 8 og indtil de sidste er i mål.\n\n\nM
 ikro og mini spejdere skal have forældre med til at gå sammen med dem\, 
 da  \nvi ikke kan garantere\, at der er ledere som er klar til en gåtur\,
  netop som  \nman møder op. \n\nAlle andre spejderforældre er også me
 get velkomne til at deltage. I kan  \nenten gå med sammen med spejderne\
 , og/eller hjælpe med hyggen omkring  \nspejderhytten. At heppe og hjælp
 e med vabler er ultra vigtige opgaver!\n\n\nVed tilmelding\, tilmelder m
 an sig ud fra de måltider man ønsker at  \ndeltage i. Måltiderne serv
 eres over et længere tidsrum ved hytten\, sådan  \nat alle der går\, ka
 n tage mad når de runder Spejdervænget. Hvert måltid  \nkoster 25 kr. p
 r. person.\n\n\nJunior- og tropsspejdere\, som har en forventning om at fo
 rsøge sig med et 75  \nkm mærke\, starter torsdag kl. 14\, ved Spejderv
 ænget og går 30 km\, for at  \nhave det bedst mulige udgangspunkt for at
  gennemføre. Pt. har 3 spejdere  \ngivet udtryk for\, at de ønsker at g
 øre et forsøg på dette mærke. Også  \nher vil der væres snacks og af
 tensmad. Ligeledes vil der være ledere  \ntilstede.\n\n\nMedbring: \n\n-
  Tøj efter vejret  \n\n- Tørre rene strømper til at skifte til\n\n- G
 ode sko at gå i - og meget gerne et ekstra par at skifte til undervejs  \
 n(fødder har det med at hæve\, når man går langt)\n\n- Godt humør\n\n
 - Evt. snacks (nødder\, slik etc.) til gåturerne (der er også snacks ve
 d  \nhytten)\n\n- Evt. en vandflaske til gåturerne (der er også vand ved
  hytten).\n\n- Evt. en lille rygsæk til vand og snacks\n\n- Pandelampe\, 
 hvis du forventer at gå efter mørkets frembrud.\n\nVi forsøger løbende
  at komme med opdateringer på arrangementet via vores  \nFacebook grupper
 \, hvorfor vi opfordrer jer til at være medlem af både  \n"Maribo Spejde
 rne" samt "Maribo Spejderne - Forældregruppe!!!".\n\n
URL:https://www.maribospejderne.dk/begivenhed/gaa-langt-2026
DTSTART:20260403T060000Z
DTEND:20260403T215900Z
LOCATION:Maribo Spejderne\, Spejdervænget 1\, 4930 Maribo
END:VEVENT
BEGIN:VEVENT
UID:gruppeweb.dk:3105:event:216
DTSTAMP:20260424T153455Z
LAST-MODIFIED:20251203T201214Z
SUMMARY:Spejdernes Lejr 2026 - Endelig tilmelding
DESCRIPTION:\nDer er tidligere udsendt en forhåndstilmelding\, således at
  vi kunne få et  \noverblik over hvor mange som forventede at skulle med.
  Dette er nu den  \nendelige tilmelding\, og du skal derfor tilmelde dig\,
  hvis du skal med på  \nSpejdernes Lejr - hvad enten du har tilmeldt dig 
 forhåndstilmeldingen eller  \nej.\n\n*Junior-\, trop- og klanspejdere* i
 nviteres til at deltage i hele lejren fra  \n*lørdag d. 18. til søndag 2
 6. juli 2026*.\n\n*Mini-spejderne *inviteres til at deltage fra *mandag d
 . 20. juli til  \ntorsdag d. 23. juli*.\n\nAfrejse og hjemrejse arrangeres
  centralt fra Spejdernes Lejr\, hvorfor vi  \nendnu ikke kan fortælle de 
 præcise tidspunkter (vi forventer at det kommer  \ntil at være fra/til S
 akskøbing station\, men kan ikke sige det 100% sikkert  \nendnu).\n\n\n*B
 ESØGSDAG*\n\n*Mikrospejdere *inviteres til at besøge lejren torsdag d. 2
 3. juli sammen  \nmed familie. Her kan vi desværre ikke tilbyde transport
  - til gengæld er  \nbesøget gratis. \n\nForældre\, søskende\, bedste
 forældre etc. til de spejdere som deltager på  \nlejren er også meget v
 elkomne til at besøge os denne dag. Skriv derfor  \ngerne datoen i kalend
 eren allerede nu.\n\n \n\n*PRIS*\n\nMINI-spejdere: 1610 kr. ved tilmeldin
 g senest 20. februar 2026. Herefter  \nstiger prisen til 1690 kr.\n\nJUNIO
 R-\, TROP- og KLAN-spejdere: 2475 kr. ved tilmelding senest 20. februar  
 \n2026. Herefter stiger prisen til 2600 kr.\n\nOvenstående priser for å
 rets lejr er de officielle priser for lejren. Som  \ntidligere meldt ud\,
  har vi i gruppen desværre ikke mulighed for at give  \ntilskud til lejre
 n - til gengæld har alle spejdere kunnet opnå rabat ved at  \nsælge jul
 ekalendere.\n\n*AFMELDING*\n\n\n\nVed eventuel afmelding fra lejren gælde
 r følgende:\n\nSenest 20. februar: 100% refusion af deltagerprisen.\n\nMe
 llem 21. februar og 25. april: 75% refusion af deltagerprisen.\n\nMellem 2
 6. april og 25. juni: 50% refusion af deltagerprisen.\n\nEfter 25. juni re
 funderes deltagerprisen ikke.\n\nEfter d. 25. juni er det IKKE muligt at t
 ilmelde flere spejdere til lejren.  \nDet er Spejdernes lejr som har sat d
 enne dato\, og det er derfor IKKE muligt  \nfor os\, at dispensere for det
 te.\n\nDet er desværre heller IKKE muligt at overdrage en plads fra en sp
 ejder til  \nen anden. Derfor er det ikke muligt at "komme uden om" hverke
 n  \nafmeldingsgebyr eller ekstra prisen ved sen tilmelding ved at bytte e
 n  \nspejder ud med en anden.\n\n
URL:https://www.maribospejderne.dk/begivenhed/spejdernes-lejr-2026-endelig-
 tilmelding
DTSTART:20260718T060000Z
DTEND:20260726T140000Z
LOCATION:Hedeland Naturpark\, Tranemosevej 2\, 2640 Hedehusene
END:VEVENT
END:VCALENDAR
